{
 "currentVersion": 10.91,
 "serviceDescription": "",
 "mapName": "Layers",
 "description": "",
 "copyrightText": "",
 "supportsDynamicLayers": true,
 "layers": [],
 "tables": [],
 "spatialReference": {
  "wkid": 27700,
  "latestWkid": 27700
 },
 "singleFusedMapCache": true,
 "tileInfo": {
  "rows": 256,
  "cols": 256,
  "dpi": 96,
  "format": "JPEG",
  "compressionQuality": 75,
  "origin": {
   "x": -5220400,
   "y": 4470200
  },
  "spatialReference": {
   "wkid": 27700,
   "latestWkid": 27700
  },
  "lods": [
   {
    "level": 0,
    "resolution": 42.33341800016934,
    "scale": 160000
   },
   {
    "level": 1,
    "resolution": 25.400050800101603,
    "scale": 96000
   },
   {
    "level": 2,
    "resolution": 12.700025400050801,
    "scale": 48000
   },
   {
    "level": 3,
    "resolution": 6.350012700025401,
    "scale": 24000
   },
   {
    "level": 4,
    "resolution": 3.1750063500127004,
    "scale": 12000
   },
   {
    "level": 5,
    "resolution": 1.5875031750063502,
    "scale": 6000
   },
   {
    "level": 6,
    "resolution": 0.7937515875031751,
    "scale": 3000
   },
   {
    "level": 7,
    "resolution": 0.39687579375158755,
    "scale": 1500
   },
   {
    "level": 8,
    "resolution": 0.19843789687579377,
    "scale": 750
   }
  ]
 },
 "initialExtent": {
  "xmin": 297242.9977301971,
  "ymin": 673533.3182515128,
  "xmax": 342756.155169803,
  "ymax": 683480.686573092,
  "spatialReference": {
   "wkid": 27700,
   "latestWkid": 27700
  }
 },
 "fullExtent": {
  "xmin": 304999.57660000026,
  "ymin": 655000.4236999992,
  "xmax": 334999.57629999984,
  "ymax": 685000.4233999997,
  "spatialReference": {
   "wkid": 27700,
   "latestWkid": 27700
  }
 },
 "minScale": 160000,
 "maxScale": 750,
 "units": "esriMeters",
 "supportedImageFormatTypes": "PNG32,PNG24,PNG,JPG,DIB,TIFF,EMF,PS,PDF,GIF,SVG,SVGZ,BMP",
 "documentInfo": {
  "Title": "",
  "Author": "",
  "Comments": "",
  "Subject": "",
  "Category": "",
  "AntialiasingMode": "None",
  "TextAntialiasingMode": "Force",
  "Keywords": ""
 },
 "capabilities": "Map,Query,Data",
 "supportedQueryFormats": "JSON, geoJSON",
 "exportTilesAllowed": false,
 "referenceScale": 0,
 "datumTransformations": [
  {
   "geoTransforms": [
    {
     "wkid": 108001,
     "latestWkid": 1241,
     "transformForward": true,
     "name": "NAD_1927_To_NAD_1983_NADCON"
    }
   ]
  },
  {
   "geoTransforms": [
    {
     "wkid": 108001,
     "latestWkid": 1241,
     "transformForward": false,
     "name": "NAD_1927_To_NAD_1983_NADCON"
    }
   ]
  }
 ],
 "supportsDatumTransformation": true,
 "maxRecordCount": 1000,
 "maxImageHeight": 4096,
 "maxImageWidth": 4096,
 "supportedExtensions": ""
}
